BEGIN:VCALENDAR
VERSION:2.0
PRODID:-//ChamberMaster//Event Calendar 2.0//EN
METHOD:PUBLISH
X-PUBLISHED-TTL:P3D
REFRESH-INTERVAL:P3D
CALSCALE:GREGORIAN
BEGIN:VEVENT
DTSTART:20210921T200000Z
DTEND:20210921T210000Z
X-MICROSOFT-CDO-ALLDAYEVENT:FALSE
SUMMARY:Called to Care Ribbon Cutting
DESCRIPTION:Join us for the ribbon cutting and grand opening for Called to Care!
X-ALT-DESC;FMTTYPE=text/html:Join us for the ribbon cutting and grand opening for Called to Care!
LOCATION:1214 N Peterson Avenue Suite C Douglas\, GA 31533
UID:e.458.3085
SEQUENCE:3
DTSTAMP:20260425T221930Z
URL:https://members.coffeegachamber.com/events/details/called-to-care-ribbon-cutting-3085
END:VEVENT

END:VCALENDAR
