BEGIN:VCALENDAR
VERSION:2.0
PRODID:-//ChamberMaster//Event Calendar 2.0//EN
METHOD:PUBLISH
X-PUBLISHED-TTL:P3D
REFRESH-INTERVAL:P3D
CALSCALE:GREGORIAN
BEGIN:VEVENT
DTSTART:20241124T180000Z
DTEND:20241124T220000Z
X-MICROSOFT-CDO-ALLDAYEVENT:FALSE
SUMMARY:Downtown Holiday Open House
DESCRIPTION:Downtown Holiday Open House - shop our boutiques\, antiques and local shops and restaurants this Sunday for great pre-CHristmas sales and delicous treats.
X-ALT-DESC;FMTTYPE=text/html:Downtown Holiday Open House - shop our boutiques\, antiques and local shops and restaurants this Sunday for great pre-CHristmas sales and delicous treats.<br />\n&nbsp\;
LOCATION:Downtown Douglas Georgia
UID:e.458.3387
SEQUENCE:3
DTSTAMP:20260422T020532Z
URL:https://members.coffeegachamber.com/events/details/downtown-holiday-open-house-3387
END:VEVENT

END:VCALENDAR
