BEGIN:VCALENDAR
VERSION:2.0
PRODID:-//ChamberMaster//Event Calendar 2.0//EN
METHOD:PUBLISH
X-PUBLISHED-TTL:P3D
REFRESH-INTERVAL:P3D
CALSCALE:GREGORIAN
BEGIN:VEVENT
DTSTART:20251123T170000Z
DTEND:20251123T220000Z
X-MICROSOFT-CDO-ALLDAYEVENT:FALSE
SUMMARY:Downtown Holiday Open House
DESCRIPTION:Downtown Holiday Open House - Sunday before Thanksgiving\, noon-5pm in Downtown Douglas  The Downtown Holiday Open House is a fantastic event for local shoppers and visitors to enjoy! It is the perfect time to start your holiday shopping\, enjoy the seasonal ambiance\, and discover unique items from local businesses. It's a day of awesome sales\, delicious snacks and spending time with friends. It's a fun and productive opportunity for both shopping enthusiasts and those just looking to soak in the holiday spirit. Make sure to spread the word and mark your calendars for this festive event!
X-ALT-DESC;FMTTYPE=text/html:<span style="font-size:12px\;"><strong><span style="color:black\;"><span style="font-family:arial\,sans-serif\;">Downtown Holiday Open House</span></span></strong><span style="background:white\;"><span style="color:#222222\;"><span style="font-family:arial\,sans-serif\;">&nbsp\;-&nbsp\;</span></span></span><strong><span style="background:white\;"><span style="color:black\;"><span style="font-family:arial\,sans-serif\;">Sunday before Thanksgiving\, noon-5pm in Downtown Douglas</span></span></span></strong>&nbsp\;&nbsp\;<span style="background:white\;"><span style="color:#374151\;"><span style="font-family:arial\,sans-serif\;">The Downtown Holiday Open House is a fantastic event for local shoppers and visitors to enjoy!</span></span><span style="color:#222222\;"><span style="font-family:arial\,sans-serif\;">&nbsp\;It&nbsp\;</span></span></span><span style="background:white\;"><span style="color:#374151\;"><span style="font-family:arial\,sans-serif\;">is the perfect time to start your holiday shopping\, enjoy the seasonal ambiance\, and discover unique items from local businesses. It&#39\;s a day of awesome sales\, delicious snacks and spending time with friends. It&#39\;s a fun&nbsp\;and productive opportunity for both shopping enthusiasts and those just looking to soak in the holiday spirit. </span></span></span><span style="background:#F7F7F8\;"><span style="color:#374151\;"><span style="font-family:segoe ui\,sans-serif\;">Make sure to spread the word and mark your calendars for this festive event!</span></span></span></span>
LOCATION:
UID:e.458.3399
SEQUENCE:3
DTSTAMP:20260421T062608Z
URL:https://members.coffeegachamber.com/events/details/downtown-holiday-open-house-3399
END:VEVENT

END:VCALENDAR
