BEGIN:VCALENDAR
VERSION:2.0
PRODID:-//ChamberMaster//Event Calendar 2.0//EN
METHOD:PUBLISH
X-PUBLISHED-TTL:P3D
REFRESH-INTERVAL:P3D
CALSCALE:GREGORIAN
BEGIN:VEVENT
DTSTART:20241214T000000Z
DTEND:20241214T020000Z
X-MICROSOFT-CDO-ALLDAYEVENT:FALSE
SUMMARY:Festival of Lights Christmas Parade
DESCRIPTION:2024 - 60th Annual Festival of Lights Christmas Parade\n\n               60 Years of CHRISTMAS in COFFEE
X-ALT-DESC;FMTTYPE=text/html:<span style="color:#008000\;"><strong>2024 - 60th Annual Festival of Lights Christmas Parade</strong></span><br />\n<strong><font color="#008000">&nbsp\; &nbsp\; &nbsp\; &nbsp\; &nbsp\; &nbsp\; &nbsp\; &nbsp\;</font><em style="color: rgb(255\, 0\, 0)\;">60 Years of CHRISTMAS in COFFEE</em></strong><br />\n&nbsp\;
LOCATION:Along North Peterson Avenue Downtown Douglas
UID:e.458.2486
SEQUENCE:3
DTSTAMP:20260422T001811Z
URL:https://members.coffeegachamber.com/events/details/festival-of-lights-christmas-parade-12-06-2024-2486
END:VEVENT

END:VCALENDAR
