BEGIN:VCALENDAR
VERSION:2.0
PRODID:-//ChamberMaster//Event Calendar 2.0//EN
METHOD:PUBLISH
X-PUBLISHED-TTL:P3D
REFRESH-INTERVAL:P3D
CALSCALE:GREGORIAN
BEGIN:VEVENT
DTSTART:20251213T000000Z
DTEND:20251213T020000Z
X-MICROSOFT-CDO-ALLDAYEVENT:FALSE
SUMMARY:Festival of Lights Christmas Parade
DESCRIPTION:2025 PARADE THEME\n\nHoliday Movie Magic\n\nJoin us in Downtown Douglas for the 61st Annual Festival of Lights Christmas Parade "Holiday Movie Magic" on Friday\, Dec. 12th at 7pm. This lighted parade travels along Peterson Avenue from Holt's Bakery to South Georgia State College. Enjoy this festive night full of Christmas lights and sounds of the season as local businesses and groups gather and delight all who come to Downtown Douglas.\n\nSign up to be in the parade here: https://forms.gle/6dzwKw2QP87J9ziF9
X-ALT-DESC;FMTTYPE=text/html:<span style="color:#008000\;"><strong>2025 PARADE THEME</strong></span><br />\n<strong><span style="color:#FF0000\;"><em>Holiday Movie Magic</em></span></strong><br />\n<span style="font-size:12px\;"><span style="font-family:tahoma\;">Join us in Downtown Douglas for the 61st Annual Festival of Lights Christmas Parade &quot\;Holiday Movie Magic&quot\; on Friday\, Dec. 12th at 7pm. This lighted parade travels along Peterson Avenue from Holt&#39\;s Bakery to South Georgia State College. Enjoy this festive night full of Christmas lights and sounds of the season as local businesses and groups gather and delight all who come to Downtown Douglas.<br background-color:="" class="html-br" font-size:="" segoe="" style="color: rgb(226\, 229\, 233)\; font-family: " ui="" />\nSign up to be in the parade here:&nbsp\;<a attributionsrc="/privacy_sandbox/comet/register/source/?xt=AZX3DHOlYB1p5TgwoFVIYd0LafWjLfez4PxvBMMIVlC1slBJBM-ie2n-3PCePGUMCAhbLsdmMoTNe27MvsBF97My3uLBOCsRVQkCV_xmTUgoFF_HmoTN193_btW7CwypDd5mE8cADS-i_4FQiNsAIjzUqW-BvhZLxbr3sVDNJsx3evvkObVH6vYzl1_JMw9XXSQFCej7gx7HPl-Z-hRwP26gkMqCLDU_KBcvc1X5jQXFxJvSC1DMJLWrONLy9tNy5VXOU3TgSJAEyc9VW4ooKkTJjV43jo6JIp7dCjLULCtnDecoky9OaXYyMiOASqv4MWsyeSARVswVa_6ZkRCtoluWifn4tSKnEa61IJ-ZQmC_ZDC8WdqkZo2kegze4GlUWgAGEi064CMd-DQSxT-N8XHYmNz3-0GpbixqJflOUNXOGh3OTy66XgbtWkX_b0xJlWvho4DTRly3g4rn4soT9bmfo7LzS0P9Db3jkkArNw-_jQimKsLUJtEsitl_ct7JN3qw7hEQTmVdCQMugURwdgSJaAzlpOr9IlWz4qmH3eIjZgw4lRSdkudIJrFRyP8YGrcH539i6_RnULgqRACPJMGHiMN1rqaL4pztVw2H4QGCixYUjJcm_lUF41ESXRPGxJeyzDWQ-Mfd1ewULaz3LYB3uBHuAI08ZPjKSKI1-F-P4qE91gSV6rNtGt2SgETeXdYrrFtJDQrXP1S2r9x194_WzDRHzYmk4yx8pOgFI9VzsXIWmAlGUby2Mi4oJ054Eiiok5LbkuudVJJxwfUKjspUI9QY09GaYXwBq2wLL02crl58ssUrqcLts92hr7LEaIM" class="x1i10hfl xjbqb8w x1ejq31n x18oe1m7 x1sy0etr xstzfhl x972fbf x10w94by x1qhh985 x14e42zd x9f619 x1ypdohk xt0psk2 x3ct3a4 xdj266r x14z9mp xat24cr x1lziwak xexx8yu xyri2b x18d9i69 x1c1uobl x16tdsg8 x1hl2dhg xggy1nq x1a2a7pz xkrqix3 x1sur9pj x1fey0fg x1s688f" font-size:="" href="https://forms.gle/6dzwKw2QP87J9ziF9?fbclid=IwZXh0bgNhZW0CMTAAYnJpZBExTmFDSTJVRmNHbmZ4b3JHYQEeiyk49wCsxXc17AvqRtnfTukwFZsujHLtPmFUaltLOOyibr8bVODp0IJaGXk_aem_a0ytHF293t5Zo7wL6xJ8Ag" rel="nofollow noreferrer" role="link" segoe="" style="color: rgb(90\, 167\, 255)\; cursor: pointer\; text-decoration-line: none\; border-width: 0px\; margin: 0px\; border-style: none\; padding: 0px\; list-style-type: none\; box-sizing: border-box\; background-color: rgb(37\, 39\, 40)\; outline: none\; -webkit-tap-highlight-color: transparent\; font-weight: 600\; touch-action: manipulation\; display: inline\; font-family: " tabindex="0" target="_blank" ui="">https://forms.gle/6dzwKw2QP87J9ziF9</a></span></span><br />\n&nbsp\;
LOCATION:Downtown Douglas beginning at Holt's Bakery and ending at South Georgia State College
UID:e.458.2487
SEQUENCE:3
DTSTAMP:20260421T044921Z
URL:https://members.coffeegachamber.com/events/details/festival-of-lights-christmas-parade-12-06-2025-2487
END:VEVENT

END:VCALENDAR
