BEGIN:VCALENDAR
VERSION:2.0
PRODID:-//ChamberMaster//Event Calendar 2.0//EN
METHOD:PUBLISH
X-PUBLISHED-TTL:P3D
REFRESH-INTERVAL:P3D
CALSCALE:GREGORIAN
BEGIN:VEVENT
DTSTART:20250509T230000Z
DTEND:20250510T030000Z
X-MICROSOFT-CDO-ALLDAYEVENT:FALSE
SUMMARY:Mark Wills in Concert
DESCRIPTION:Do you have your Mark Wills with Special Guests The Dallas Rodgers Band tickets yet?? Don't miss this great night of Country Music South Georgia! Get your tickets NOW at www.themartincentre.com Doors open at 7pm\, music starts at 8 pm.
X-ALT-DESC;FMTTYPE=text/html:<span background-color:="" font-size:="" segoe="" ui="" white-space-collapse:="">Do you have your</span><span background-color:="" font-size:="" segoe="" style="color: rgb(226\, 229\, 233)\; font-family: " ui="" white-space-collapse:=""> </span><span background-color:="" class="html-span xdj266r x11i5rnm xat24cr x1mh8g0r xexx8yu x4uap5 x18d9i69 xkhd6sd x1hl2dhg x16tdsg8 x1vvkbs" color:="" font-size:="" segoe="" style="margin: 0px\; overflow-wrap: break-word\; padding: 0px\; font-family: " ui="" white-space-collapse:=""><a attributionsrc="/privacy_sandbox/comet/register/source/?xt=AZUUK9EqqOw-iMlw3_J6QJWNtQO5b6EnPq0bNgrO9JXC6NHQe3qQsPcEub22MCm3liScdNf5OuulDQGvBG7KmTZDqQyqQky6-V-htN0_fup43ZO2tKfzueUKis4i7Du1buGVCFzzgNI1iUr9f-koHy3TGS2lrV8TkADdVuwvqhzvwYup5faMTHl0F2vesnNc-ltm3_Sgo-Sq_TrXAJ0RvvKBTda3vyaPwKwqlmFXImqFKZlol_aKhttIA9tHipx_EWVoco7AEMBecRDwCbTR7n6cSoUPtc1C6mlJSfTHawaBwH9n-_-j2Q0drTIjZQD--KHHdPAe1an1A6t-avdpb1VZhEkhvyn2_ycA6XJB1kJFG6ioOM3KYYr3xjychn8zgLx_HaXiD-Rl16lOBaMdFzJDW4Ud7Dn0Hcg1-Pi12BItNcSfQ6U0jtCg5WbnY6DCbMCLNQwcRcEMC5tDNj5WjUBI5iK7zYFMebxwP2pfSncbDyN--9IIZwTk1Wqz8_kz6muV6fEdrATrJZuiY-MZNrA88vVm6zEM_Wmd0LWcsK8yz6FiGk-XnwU-3GFPaN3ckJ2pYeC_6VPyOJ8siPyGVGM8LkODpTvGf_IkoWb85aURIPDfiUIWhVaeBdZg1Z8AYSewG6ayD_H8DmSAHxonPHhNmuEVx006bOUoEeaysrVGDO1fineSZfHCrjBmnFkVZvUfJnFVY5D0byAVw5EA4XgSFtkz9xVFKHEHd1uCU3X92EVnUhKuOHP58WjKaXGVKufZH0DFuJyLQxSiX6IIB22qZgZ0AvMQ9bfCgSaEMiXIv5ixTQoJwqM4r1uXyq4lmGOQsn6D3AjCvRiIAbtoS9aqEgo82snsNltcT8xyreGWN5SizVHDtZkr9unoxhilci7KHls0yDUkSZZfJ8-i2hdjzHG251di3Nw1FOQLvQf3EJvaNBr4GQBSfw_jT9yoFEgKoRiFbX9gDtNc_d2sZn4LEPpvhyiBZph47fz5zqUwKA-hdKNVR1IMsohUjm-UvVVU65oZZPKOHD7yCo1REpsETEihh-27ppMbx7Dd6ddppkb2Y1DVGr-SZpLzlthw4v9L9m0TIgfP76-oPfaDspw5WZ9aXurWsKG1TBI7OFxvG7I_Mp3OkXTgxi3j4Vc789Hif1-vbCNd5Bx0IHfoOcN9NrRil4ZvGhVl6NsfA2lbNepBDYWAAhbuzqJ4LuVz72iJ0LdD3Wtx8aeJ1qEWMSKyGg1iWczYEFUoxc5KgkpBAP284KzJbgsw-1fpffld9vwe8iUJ10G6VC9AybNh0mkG8FvXx6qYFHLqrPXNeBRbBp6NUNOsBTy-OdP2ewFKQy-Oe55Ikp1ShQFh8exgq4CzfDGl3lTuUyxhUuh3UbOYl1WDPSVLDKwxxHhpoEd6KRDg060KucSr7FZ4HwUB_qlyjJuQ1hYpzOUTPf2jr4UKAnEC6KgqAYAK5xjyBEeBq8eYa919fVo2A5fV1SF6UrplGsZruXvA8KYu2byLSEUarZeAnx60zmmVEWset2BXwaxF2Zd0levyma9TtRlZM9YBO44nQH9Da9aItr2NWKbvdrbWn3ZMLApfNdOuSSixpbrZTpncOcszTRf_HuTQHCMbCK0OVY5VG4UZkyBStfi9F3POxUgh2Nd5K3s26O0X3rbwblKRmCM6VgILzmXzok_jju8CGEQF9DbU5CP8Cnc0zW1o4e0J32q5s6c0UqJnsia5GweZuM26FBxvZ6c_san_KNfPPzVJz_xqVh3IWrMCADvRPk4VHv02D9-IA9Ao4nXEKHqD8jWVbx9B43GH1MYPWZheCep9ko5j8qw6ciNh-nCYAbkvhoqygtOPXgJUOmRw0KBmQG6LaX31fn_GkSInkdI0zRK_U5tniGETMcRE9l_hxTwEIxb-xAs4d75DpP_qtgB6_wQmeBkwPWUkVOGa5kLBiMpbxNjWqOe262ake5hPZC0jYgeqMqBw0UqI8BBRwlsb7YYxmDbUhk95eJ1lBWSjucA5XrtJuJ74hwW7MQ" class="x1i10hfl xjbqb8w x1ejq31n xd10rxx x1sy0etr x17r0tee x972fbf xcfux6l x1qhh985 xm0m39n x9f619 x1ypdohk xt0psk2 xe8uvvx xdj266r x11i5rnm xat24cr x1mh8g0r xexx8yu x4uap5 x18d9i69 xkhd6sd x16tdsg8 x1hl2dhg xggy1nq x1a2a7pz xkrqix3 x1sur9pj x1fey0fg x1s688f" href="https://www.facebook.com/markwillsmusic?__cft__[0]=AZXsm6kYL4VbJsMXMyeh2sbyfuU8nAuFCOs0ZcL3qq-rHEt3HBQ61orf30Iut7PoQBnenOszIDXjnozAOjJ-5EO_ymUXZiqTK2SfVSk7TSj7lsTVX3-Jzpp7ZLuCFXajutw0BjVWE0UHYjKdlzH4PY8uay6abaXxJSir4MKO-WFAJGex89F7hSpLx7ueky2czOUFDLqUUjdMqLEHpmc4GvUI&amp\;__tn__=-]K-R" role="link" style="color: rgb(90\, 167\, 255)\; cursor: pointer\; text-decoration-line: none\; list-style: none\; margin: 0px\; text-align: inherit\; border-style: none\; padding: 0px\; box-sizing: border-box\; border-width: 0px\; outline: none\; -webkit-tap-highlight-color: transparent\; font-weight: 600\; touch-action: manipulation\; background-color: transparent\; display: inline\; font-family: inherit\;" tabindex="0" waprocessedanchor="true"><span class="xt0psk2" style="display: inline\; font-family: inherit\;">Mark Wills</span></a></span><span background-color:="" font-size:="" segoe="" ui="" white-space-collapse:=""> with Special Guests The</span><span background-color:="" font-size:="" segoe="" style="color: rgb(226\, 229\, 233)\; font-family: " ui="" white-space-collapse:=""> </span><span background-color:="" class="html-span xdj266r x11i5rnm xat24cr x1mh8g0r xexx8yu x4uap5 x18d9i69 xkhd6sd x1hl2dhg x16tdsg8 x1vvkbs" color:="" font-size:="" segoe="" style="margin: 0px\; overflow-wrap: break-word\; padding: 0px\; font-family: " ui="" white-space-collapse:=""><a attributionsrc="/privacy_sandbox/comet/register/source/?xt=AZUUK9EqqOw-iMlw3_J6QJWNtQO5b6EnPq0bNgrO9JXC6NHQe3qQsPcEub22MCm3liScdNf5OuulDQGvBG7KmTZDqQyqQky6-V-htN0_fup43ZO2tKfzueUKis4i7Du1buGVCFzzgNI1iUr9f-koHy3TGS2lrV8TkADdVuwvqhzvwYup5faMTHl0F2vesnNc-ltm3_Sgo-Sq_TrXAJ0RvvKBTda3vyaPwKwqlmFXImqFKZlol_aKhttIA9tHipx_EWVoco7AEMBecRDwCbTR7n6cSoUPtc1C6mlJSfTHawaBwH9n-_-j2Q0drTIjZQD--KHHdPAe1an1A6t-avdpb1VZhEkhvyn2_ycA6XJB1kJFG6ioOM3KYYr3xjychn8zgLx_HaXiD-Rl16lOBaMdFzJDW4Ud7Dn0Hcg1-Pi12BItNcSfQ6U0jtCg5WbnY6DCbMCLNQwcRcEMC5tDNj5WjUBI5iK7zYFMebxwP2pfSncbDyN--9IIZwTk1Wqz8_kz6muV6fEdrATrJZuiY-MZNrA88vVm6zEM_Wmd0LWcsK8yz6FiGk-XnwU-3GFPaN3ckJ2pYeC_6VPyOJ8siPyGVGM8LkODpTvGf_IkoWb85aURIPDfiUIWhVaeBdZg1Z8AYSewG6ayD_H8DmSAHxonPHhNmuEVx006bOUoEeaysrVGDO1fineSZfHCrjBmnFkVZvUfJnFVY5D0byAVw5EA4XgSFtkz9xVFKHEHd1uCU3X92EVnUhKuOHP58WjKaXGVKufZH0DFuJyLQxSiX6IIB22qZgZ0AvMQ9bfCgSaEMiXIv5ixTQoJwqM4r1uXyq4lmGOQsn6D3AjCvRiIAbtoS9aqEgo82snsNltcT8xyreGWN5SizVHDtZkr9unoxhilci7KHls0yDUkSZZfJ8-i2hdjzHG251di3Nw1FOQLvQf3EJvaNBr4GQBSfw_jT9yoFEgKoRiFbX9gDtNc_d2sZn4LEPpvhyiBZph47fz5zqUwKA-hdKNVR1IMsohUjm-UvVVU65oZZPKOHD7yCo1REpsETEihh-27ppMbx7Dd6ddppkb2Y1DVGr-SZpLzlthw4v9L9m0TIgfP76-oPfaDspw5WZ9aXurWsKG1TBI7OFxvG7I_Mp3OkXTgxi3j4Vc789Hif1-vbCNd5Bx0IHfoOcN9NrRil4ZvGhVl6NsfA2lbNepBDYWAAhbuzqJ4LuVz72iJ0LdD3Wtx8aeJ1qEWMSKyGg1iWczYEFUoxc5KgkpBAP284KzJbgsw-1fpffld9vwe8iUJ10G6VC9AybNh0mkG8FvXx6qYFHLqrPXNeBRbBp6NUNOsBTy-OdP2ewFKQy-Oe55Ikp1ShQFh8exgq4CzfDGl3lTuUyxhUuh3UbOYl1WDPSVLDKwxxHhpoEd6KRDg060KucSr7FZ4HwUB_qlyjJuQ1hYpzOUTPf2jr4UKAnEC6KgqAYAK5xjyBEeBq8eYa919fVo2A5fV1SF6UrplGsZruXvA8KYu2byLSEUarZeAnx60zmmVEWset2BXwaxF2Zd0levyma9TtRlZM9YBO44nQH9Da9aItr2NWKbvdrbWn3ZMLApfNdOuSSixpbrZTpncOcszTRf_HuTQHCMbCK0OVY5VG4UZkyBStfi9F3POxUgh2Nd5K3s26O0X3rbwblKRmCM6VgILzmXzok_jju8CGEQF9DbU5CP8Cnc0zW1o4e0J32q5s6c0UqJnsia5GweZuM26FBxvZ6c_san_KNfPPzVJz_xqVh3IWrMCADvRPk4VHv02D9-IA9Ao4nXEKHqD8jWVbx9B43GH1MYPWZheCep9ko5j8qw6ciNh-nCYAbkvhoqygtOPXgJUOmRw0KBmQG6LaX31fn_GkSInkdI0zRK_U5tniGETMcRE9l_hxTwEIxb-xAs4d75DpP_qtgB6_wQmeBkwPWUkVOGa5kLBiMpbxNjWqOe262ake5hPZC0jYgeqMqBw0UqI8BBRwlsb7YYxmDbUhk95eJ1lBWSjucA5XrtJuJ74hwW7MQ" class="x1i10hfl xjbqb8w x1ejq31n xd10rxx x1sy0etr x17r0tee x972fbf xcfux6l x1qhh985 xm0m39n x9f619 x1ypdohk xt0psk2 xe8uvvx xdj266r x11i5rnm xat24cr x1mh8g0r xexx8yu x4uap5 x18d9i69 xkhd6sd x16tdsg8 x1hl2dhg xggy1nq x1a2a7pz xkrqix3 x1sur9pj x1fey0fg x1s688f" href="https://www.facebook.com/dallasrodgersmusic?__cft__[0]=AZXsm6kYL4VbJsMXMyeh2sbyfuU8nAuFCOs0ZcL3qq-rHEt3HBQ61orf30Iut7PoQBnenOszIDXjnozAOjJ-5EO_ymUXZiqTK2SfVSk7TSj7lsTVX3-Jzpp7ZLuCFXajutw0BjVWE0UHYjKdlzH4PY8uay6abaXxJSir4MKO-WFAJGex89F7hSpLx7ueky2czOUFDLqUUjdMqLEHpmc4GvUI&amp\;__tn__=-]K-R" role="link" style="color: rgb(90\, 167\, 255)\; cursor: pointer\; text-decoration-line: none\; list-style: none\; margin: 0px\; text-align: inherit\; border-style: none\; padding: 0px\; box-sizing: border-box\; border-width: 0px\; outline: none\; -webkit-tap-highlight-color: transparent\; font-weight: 600\; touch-action: manipulation\; background-color: transparent\; display: inline\; font-family: inherit\;" tabindex="0" waprocessedanchor="true"><span class="xt0psk2" style="display: inline\; font-family: inherit\;">Dallas Rodgers</span></a></span><span background-color:="" font-size:="" segoe="" style="color: rgb(226\, 229\, 233)\; font-family: " ui="" white-space-collapse:=""> </span><span background-color:="" font-size:="" segoe="" ui="" white-space-collapse:="">Band tickets yet?? Don&#39\;t miss this great night of Country Music South Georgia! Get your tickets NOW at</span><span background-color:="" font-size:="" segoe="" style="color: rgb(226\, 229\, 233)\; font-family: " ui="" white-space-collapse:=""> </span><span background-color:="" class="html-span xdj266r x11i5rnm xat24cr x1mh8g0r xexx8yu x4uap5 x18d9i69 xkhd6sd x1hl2dhg x16tdsg8 x1vvkbs" color:="" font-size:="" segoe="" style="margin: 0px\; overflow-wrap: break-word\; padding: 0px\; font-family: " ui="" white-space-collapse:=""><a attributionsrc="/privacy_sandbox/comet/register/source/?xt=AZUUK9EqqOw-iMlw3_J6QJWNtQO5b6EnPq0bNgrO9JXC6NHQe3qQsPcEub22MCm3liScdNf5OuulDQGvBG7KmTZDqQyqQky6-V-htN0_fup43ZO2tKfzueUKis4i7Du1buGVCFzzgNI1iUr9f-koHy3TGS2lrV8TkADdVuwvqhzvwYup5faMTHl0F2vesnNc-ltm3_Sgo-Sq_TrXAJ0RvvKBTda3vyaPwKwqlmFXImqFKZlol_aKhttIA9tHipx_EWVoco7AEMBecRDwCbTR7n6cSoUPtc1C6mlJSfTHawaBwH9n-_-j2Q0drTIjZQD--KHHdPAe1an1A6t-avdpb1VZhEkhvyn2_ycA6XJB1kJFG6ioOM3KYYr3xjychn8zgLx_HaXiD-Rl16lOBaMdFzJDW4Ud7Dn0Hcg1-Pi12BItNcSfQ6U0jtCg5WbnY6DCbMCLNQwcRcEMC5tDNj5WjUBI5iK7zYFMebxwP2pfSncbDyN--9IIZwTk1Wqz8_kz6muV6fEdrATrJZuiY-MZNrA88vVm6zEM_Wmd0LWcsK8yz6FiGk-XnwU-3GFPaN3ckJ2pYeC_6VPyOJ8siPyGVGM8LkODpTvGf_IkoWb85aURIPDfiUIWhVaeBdZg1Z8AYSewG6ayD_H8DmSAHxonPHhNmuEVx006bOUoEeaysrVGDO1fineSZfHCrjBmnFkVZvUfJnFVY5D0byAVw5EA4XgSFtkz9xVFKHEHd1uCU3X92EVnUhKuOHP58WjKaXGVKufZH0DFuJyLQxSiX6IIB22qZgZ0AvMQ9bfCgSaEMiXIv5ixTQoJwqM4r1uXyq4lmGOQsn6D3AjCvRiIAbtoS9aqEgo82snsNltcT8xyreGWN5SizVHDtZkr9unoxhilci7KHls0yDUkSZZfJ8-i2hdjzHG251di3Nw1FOQLvQf3EJvaNBr4GQBSfw_jT9yoFEgKoRiFbX9gDtNc_d2sZn4LEPpvhyiBZph47fz5zqUwKA-hdKNVR1IMsohUjm-UvVVU65oZZPKOHD7yCo1REpsETEihh-27ppMbx7Dd6ddppkb2Y1DVGr-SZpLzlthw4v9L9m0TIgfP76-oPfaDspw5WZ9aXurWsKG1TBI7OFxvG7I_Mp3OkXTgxi3j4Vc789Hif1-vbCNd5Bx0IHfoOcN9NrRil4ZvGhVl6NsfA2lbNepBDYWAAhbuzqJ4LuVz72iJ0LdD3Wtx8aeJ1qEWMSKyGg1iWczYEFUoxc5KgkpBAP284KzJbgsw-1fpffld9vwe8iUJ10G6VC9AybNh0mkG8FvXx6qYFHLqrPXNeBRbBp6NUNOsBTy-OdP2ewFKQy-Oe55Ikp1ShQFh8exgq4CzfDGl3lTuUyxhUuh3UbOYl1WDPSVLDKwxxHhpoEd6KRDg060KucSr7FZ4HwUB_qlyjJuQ1hYpzOUTPf2jr4UKAnEC6KgqAYAK5xjyBEeBq8eYa919fVo2A5fV1SF6UrplGsZruXvA8KYu2byLSEUarZeAnx60zmmVEWset2BXwaxF2Zd0levyma9TtRlZM9YBO44nQH9Da9aItr2NWKbvdrbWn3ZMLApfNdOuSSixpbrZTpncOcszTRf_HuTQHCMbCK0OVY5VG4UZkyBStfi9F3POxUgh2Nd5K3s26O0X3rbwblKRmCM6VgILzmXzok_jju8CGEQF9DbU5CP8Cnc0zW1o4e0J32q5s6c0UqJnsia5GweZuM26FBxvZ6c_san_KNfPPzVJz_xqVh3IWrMCADvRPk4VHv02D9-IA9Ao4nXEKHqD8jWVbx9B43GH1MYPWZheCep9ko5j8qw6ciNh-nCYAbkvhoqygtOPXgJUOmRw0KBmQG6LaX31fn_GkSInkdI0zRK_U5tniGETMcRE9l_hxTwEIxb-xAs4d75DpP_qtgB6_wQmeBkwPWUkVOGa5kLBiMpbxNjWqOe262ake5hPZC0jYgeqMqBw0UqI8BBRwlsb7YYxmDbUhk95eJ1lBWSjucA5XrtJuJ74hwW7MQ" class="x1i10hfl xjbqb8w x1ejq31n xd10rxx x1sy0etr x17r0tee x972fbf xcfux6l x1qhh985 xm0m39n x9f619 x1ypdohk xt0psk2 xe8uvvx xdj266r x11i5rnm xat24cr x1mh8g0r xexx8yu x4uap5 x18d9i69 xkhd6sd x16tdsg8 x1hl2dhg xggy1nq x1a2a7pz xkrqix3 x1sur9pj x1fey0fg x1s688f" href="http://www.themartincentre.com/?fbclid=IwZXh0bgNhZW0CMTAAAR6pBNSBN8hkGJZjfccw2NASnyf9V-MsLsAuIcHv6ppc20wcSPm_nDyW7Ci-5w_aem_pAg8rrkZP8rVl6rLLdrVGw" original_target="http://www.themartincentre.com/?fbclid=iwzxh0bgnhzw0cmtaaar6pbnsbn8hkgjzjfccw2nasnyf9v-mslsauichv6ppc20wcspm_ndyw7ci-5w_aem_pag8rrkzp8rvl6rlldrvgw" rel="nofollow noreferrer" role="link" style="color: rgb(90\, 167\, 255)\; cursor: pointer\; text-decoration-line: none\; list-style: none\; margin: 0px\; text-align: inherit\; border-style: none\; padding: 0px\; box-sizing: border-box\; border-width: 0px\; outline: none\; -webkit-tap-highlight-color: transparent\; font-weight: 600\; touch-action: manipulation\; background-color: transparent\; display: inline-block\; font-family: inherit\;" tabindex="0" target="_blank" waprocessedanchor="true" waprocessedid="jhfzg">www.themartincentre.com</a>&nbsp\;Doors open at 7pm\, music starts at 8 pm.</span>
LOCATION:The Martin Centre Theater 109 E. Ashley St.\, Douglas\, GA 31533
UID:e.458.3393
SEQUENCE:3
DTSTAMP:20260421T170950Z
URL:https://members.coffeegachamber.com/events/details/mark-wills-in-concert-3393
END:VEVENT

END:VCALENDAR
