BEGIN:VCALENDAR
VERSION:2.0
PRODID:-//ChamberMaster//Event Calendar 2.0//EN
METHOD:PUBLISH
X-PUBLISHED-TTL:P3D
REFRESH-INTERVAL:P3D
CALSCALE:GREGORIAN
BEGIN:VEVENT
DTSTART:20250510T140000Z
DTEND:20250510T190000Z
X-MICROSOFT-CDO-ALLDAYEVENT:FALSE
SUMMARY:Mother's Day Brunch & Fun in Downtown Douglas
DESCRIPTION:Bring your Mom downtown and start with brunch at one of our Local Participating Restaurants! After you enjoy brunch\, shop Downtown Douglas and show your brunch receipt to get 15% off in the participating shops.\n\nThis event is brought to you by Delorice's Florist! Stop by and see them at 200 Peterson Avenue S. or give them a call at 912.384.7288 to order your mama some flowers for Mother's Day.\n\n\nPUT YOUR MONEY WHERE YOUR HEART IS - SHOP LOCAL
X-ALT-DESC;FMTTYPE=text/html:<div background-color:="" class="xdj266r x11i5rnm xat24cr x1mh8g0r x1vvkbs" color:="" font-size:="" segoe="" style="margin: 0px\; overflow-wrap: break-word\; font-family: " ui="">Bring your Mom downtown and start with brunch at one of our Local Participating Restaurants! After you enjoy brunch\, shop Downtown Douglas and show your brunch receipt to get 15% off in the participating shops.</div>\n\n<div background-color:="" class="x11i5rnm xat24cr x1mh8g0r x1vvkbs xtlvy1s" color:="" font-size:="" segoe="" style="margin: 0.5em 0px 0px\; overflow-wrap: break-word\; font-family: " ui="">This event is brought to you by Delorice&#39\;s Florist! Stop by and see them at 200 Peterson Avenue S. or give them a call at 912.384.7288 to order your mama some flowers for Mother&#39\;s Day.</div>\n<br />\n<span style="font-size:20px\;">PUT YOUR MONEY WHERE YOUR HEART IS - SHOP LOCAL</span>
LOCATION:Downtown Douglas\, GA 31533
UID:e.458.2984
SEQUENCE:3
DTSTAMP:20260421T154417Z
URL:https://members.coffeegachamber.com/events/details/mother-s-day-brunch-fun-in-downtown-douglas-2984
END:VEVENT

END:VCALENDAR
