BEGIN:VCALENDAR
VERSION:2.0
PRODID:-//ChamberMaster//Event Calendar 2.0//EN
METHOD:PUBLISH
X-PUBLISHED-TTL:P3D
REFRESH-INTERVAL:P3D
CALSCALE:GREGORIAN
BEGIN:VEVENT
DTSTART:20241012T140000Z
DTEND:20241012T190000Z
X-MICROSOFT-CDO-ALLDAYEVENT:FALSE
SUMMARY:Shop Local
DESCRIPTION:Downtown Douglas - Shopping\, Dining & Entertainment\n\nPUT YOUR MONEY WHERE YOUR HEART IS - SHOP LOCAL
X-ALT-DESC;FMTTYPE=text/html:<span style="font-size:20px\;">Downtown Douglas - Shopping\, Dining &amp\; Entertainment<br />\nPUT YOUR MONEY WHERE YOUR HEART IS - SHOP LOCAL</span>
LOCATION:Douglas\, GA 31533
UID:e.458.3262
SEQUENCE:3
DTSTAMP:20260422T054045Z
URL:https://members.coffeegachamber.com/events/details/shop-local-3262
END:VEVENT

END:VCALENDAR
