BEGIN:VCALENDAR
VERSION:2.0
PRODID:-//ChamberMaster//Event Calendar 2.0//EN
METHOD:PUBLISH
X-PUBLISHED-TTL:P3D
REFRESH-INTERVAL:P3D
CALSCALE:GREGORIAN
BEGIN:VEVENT
DTSTART:20210913T180000Z
DTEND:20210913T190000Z
X-MICROSOFT-CDO-ALLDAYEVENT:FALSE
SUMMARY:Starbucks Ribbon Cutting
DESCRIPTION:Join us for the ribbon cutting and grand opening for Starbucks!
X-ALT-DESC;FMTTYPE=text/html:Join us for the ribbon cutting and grand opening for Starbucks!
LOCATION:1303 Peterson Avenue South Douglas\, GA 31533
UID:e.458.3083
SEQUENCE:3
DTSTAMP:20260425T222417Z
URL:https://members.coffeegachamber.com/events/details/starbucks-ribbon-cutting-3083
END:VEVENT

END:VCALENDAR
