BEGIN:VCALENDAR
VERSION:2.0
PRODID:-//ChamberMaster//Event Calendar 2.0//EN
METHOD:PUBLISH
X-PUBLISHED-TTL:P3D
REFRESH-INTERVAL:P3D
CALSCALE:GREGORIAN
BEGIN:VEVENT
DTSTART:20250322T130000Z
DTEND:20250322T200000Z
X-MICROSOFT-CDO-ALLDAYEVENT:FALSE
SUMMARY:Wings & Things Festival and Fly-In
DESCRIPTION:Visit Douglas-Coffee County GA and the Douglas-Coffee Chamber of Commerce are excited to bring back for the 3rd year\, "Wings and Things Festival and Fly-in" at the Douglas Municipal Airport (KDQH) on Saturday\, March 22nd. We will be there from 9am-4pm with antique airplanes and military vehicles\, vendors\, food trucks\, entertainment\, and kids activities. We have a Hot Wing Contest\, PT-17 Stearman airplane and Huey Helicopter rides\, WWII reenactors\, a car show and so much more. More than 100 vendors will be there.\n\nYou can learn more on our Visit Douglas Coffee County\, GA Facebook page under events. 2025 Wings & Things Festival and Fly-in
X-ALT-DESC;FMTTYPE=text/html:<span style="color:black\;"><span style="font-size:12.0pt\;">Visit Douglas-Coffee County GA and the Douglas-Coffee Chamber of Commerce are excited to bring back for the 3<sup>rd</sup> year\, &ldquo\;Wings and Things Festival and Fly-in&rdquo\; at the Douglas Municipal Airport (KDQH) on Saturday\, March 22nd. We will be there from 9am-4pm with antique airplanes and military vehicles\, vendors\, food trucks\, entertainment\, and kids activities. </span></span><span style="font-size:12.0pt\;">We have a Hot Wing Contest\, PT-17 Stearman airplane and Huey Helicopter rides\, WWII reenactors\, a car show and so much more. More than 100 vendors will be there.</span><br />\n<span style="color:black\;"><span style="font-size:12.0pt\;">You can learn more on our Visit Douglas&ndash\;Coffee County\, GA Facebook page under events. </span></span><a href="https://www.facebook.com/events/1631277061069732"><span style="font-size:12.0pt\;">2025 Wings &amp\; Things Festival and Fly-in</span></a>
LOCATION:Douglas Municipal "Gene Chambers" Airport. Enter on Elton Brooks Road to park. Festival entrance is between Harless Aviation and the B-17 reconstruction hangars.
UID:e.458.3391
SEQUENCE:3
DTSTAMP:20260421T203847Z
URL:https://members.coffeegachamber.com/events/details/wings-things-festival-and-fly-in-3391
END:VEVENT

END:VCALENDAR
